BEGIN:VCALENDAR
VERSION:2.0
PRODID:SchoolNow
CALSCALE:GREGORIAN
BEGIN:VEVENT
UID:84af1e12-b9e0-11f0-9a4d-0a58a9feac02
DTSTAMP:20251105T004359Z
SUMMARY:School Tour: Calendly Sign Up!
URL;VALUE=URI:https://www.kippsocal.org/iluminar/calendar/8777766/school-to
 ur-calendly-sign-up-clone
DTSTART:20251119T170000Z
DTEND:20251119T200000Z
END:VEVENT
END:VCALENDAR
