BEGIN:VCALENDAR
VERSION:2.0
PRODID:SchoolNow
CALSCALE:GREGORIAN
BEGIN:VEVENT
UID:75485ec0-b9e0-11f0-a6d3-0afff3d351ff
DTSTAMP:20251105T004334Z
SUMMARY:School Tour: Calendly Sign Up!
URL;VALUE=URI:https://www.kippsocal.org/iluminar/calendar/8777765/school-to
 ur-calendly-sign-up-clone
DTSTART:20251105T170000Z
DTEND:20251105T200000Z
END:VEVENT
END:VCALENDAR
