BEGIN:VCALENDAR
VERSION:2.0
PRODID:SchoolNow
CALSCALE:GREGORIAN
BEGIN:VEVENT
UID:6999fd90-b9e0-11f0-9cfb-0a58a9feac02
DTSTAMP:20251105T004314Z
SUMMARY:School Tour: Calendly Sign Up!
URL;VALUE=URI:https://www.kippsocal.org/iluminar/calendar/8777764/school-to
 ur-calendly-sign-up
DTSTART:20251112T170000Z
DTEND:20251112T200000Z
END:VEVENT
END:VCALENDAR
