BEGIN:VCALENDAR
VERSION:2.0
PRODID:SchoolNow
CALSCALE:GREGORIAN
BEGIN:VEVENT
UID:fc3f212c-6ca9-11f0-aefc-0affca91faff
DTSTAMP:20250729T182938Z
SUMMARY:Family Orientation (Spanish)
URL;VALUE=URI:https://www.kippsocal.org/iluminar/calendar/8455792/family-or
 ientation-english-clone
DTSTART:20250813T233000Z
DTEND:20250814T003000Z
END:VEVENT
END:VCALENDAR
