BEGIN:VCALENDAR
VERSION:2.0
PRODID:SchoolNow
CALSCALE:GREGORIAN
BEGIN:VEVENT
UID:f2481962-6ca9-11f0-a6b4-0affdc5ee261
DTSTAMP:20250729T182947Z
SUMMARY:Family Orientation (English)
URL;VALUE=URI:https://www.kippsocal.org/iluminar/calendar/8455791/family-or
 ientation-english
DTSTART:20250813T233000Z
DTEND:20250814T003000Z
END:VEVENT
END:VCALENDAR
