BEGIN:VCALENDAR
VERSION:2.0
PRODID:SchoolNow
CALSCALE:GREGORIAN
BEGIN:VEVENT
UID:f643b0c2-6d6b-11f0-b402-0eee7c8c1e25
DTSTAMP:20250730T173933Z
SUMMARY:TK & Kindergarten Families Orientation
URL;VALUE=URI:https://www.kippsocal.org/ignite/calendar/8458452/family-orie
 ntations-clone
DTSTART:20250809T150000Z
DTEND:20250809T160000Z
END:VEVENT
END:VCALENDAR
