BEGIN:VCALENDAR
VERSION:2.0
PRODID:SchoolNow
CALSCALE:GREGORIAN
BEGIN:VEVENT
UID:dd0e39ce-6d6b-11f0-ae6b-0a58a9feac02
DTSTAMP:20250730T173957Z
SUMMARY:New Families + Spanish Orientation
URL;VALUE=URI:https://www.kippsocal.org/ignite/calendar/8458451/family-orie
 ntations-clone
DTSTART:20250810T053000Z
DTEND:20250810T063000Z
END:VEVENT
END:VCALENDAR
