BEGIN:VCALENDAR
VERSION:2.0
PRODID:SchoolNow
CALSCALE:GREGORIAN
BEGIN:VEVENT
UID:c19bc5ac-6ca9-11f0-89df-0275e559ef9f
DTSTAMP:20250730T173943Z
SUMMARY:Returning Families Orientation
URL;VALUE=URI:https://www.kippsocal.org/ignite/calendar/8455790/family-orie
 ntations
DTSTART:20250809T190000Z
DTEND:20250809T200000Z
END:VEVENT
END:VCALENDAR
