BEGIN:VCALENDAR
VERSION:2.0
PRODID:SchoolNow
CALSCALE:GREGORIAN
BEGIN:VEVENT
UID:5e090882-3aec-11ef-8d67-0ef5fa5f179b
DTSTAMP:20240705T163355Z
SUMMARY:Family Orientation | 1st Grade
URL;VALUE=URI:https://www.kippsocal.org/ignite/calendar/6218956/holiday-no-
 school-day-clone-clone-clone
DTSTART;VALUE=DATE:20240807
DTEND;VALUE=DATE:20240808
END:VEVENT
END:VCALENDAR
