BEGIN:VCALENDAR
VERSION:2.0
PRODID:SchoolNow
CALSCALE:GREGORIAN
BEGIN:VEVENT
UID:5ca3d1c0-3aec-11ef-aa70-0a58a9feac02
DTSTAMP:20240705T163536Z
SUMMARY:Family Orientation | 1st Grade
URL;VALUE=URI:https://www.kippsocal.org/ignite/calendar/6218955/holiday-no-
 school-day-clone-clone-clone
DTSTART:20240807T220000Z
DTEND:20240807T230000Z
END:VEVENT
END:VCALENDAR
