BEGIN:VCALENDAR
VERSION:2.0
PRODID:SchoolNow
CALSCALE:GREGORIAN
BEGIN:VEVENT
UID:3c76f6de-3aec-11ef-be35-0a58a9feac02
DTSTAMP:20240705T163512Z
SUMMARY:Family Orientation | 2nd - 4th Grades
URL;VALUE=URI:https://www.kippsocal.org/ignite/calendar/6218954/holiday-no-
 school-day-clone-clone
DTSTART:20240806T220000Z
DTEND:20240806T230000Z
END:VEVENT
END:VCALENDAR
