BEGIN:VCALENDAR
VERSION:2.0
PRODID:SchoolNow
CALSCALE:GREGORIAN
BEGIN:VEVENT
UID:1a71c280-3aec-11ef-909b-0a58a9feac02
DTSTAMP:20240705T163451Z
SUMMARY:Family Orientation | Grades TK & Kinder
URL;VALUE=URI:https://www.kippsocal.org/ignite/calendar/6218953/holiday-no-
 school-day-clone
DTSTART:20240805T220000Z
DTEND:20240805T230000Z
END:VEVENT
END:VCALENDAR
