BEGIN:VCALENDAR
VERSION:2.0
PRODID:SchoolNow
CALSCALE:GREGORIAN
BEGIN:VEVENT
UID:208a4578-32bc-11ed-8818-0a712b6f1a0d
DTSTAMP:20220912T165829Z
SUMMARY:T&F Gratitude Gathering
URL;VALUE=URI:https://www.kippsocal.org/generations/calendar/3380170/t-f-gr
 atitude-gathering
DTSTART;VALUE=DATE:20221115
DTEND;VALUE=DATE:20221116
END:VEVENT
END:VCALENDAR
