BEGIN:VCALENDAR
VERSION:2.0
PRODID:SchoolNow
CALSCALE:GREGORIAN
BEGIN:VEVENT
UID:3a3b20ea-d9e0-11f0-93cc-0a58a9feac02
DTSTAMP:20251215T180232Z
SUMMARY:Open House Upper School
URL;VALUE=URI:https://www.kippsocal.org/compton/calendar/8823919/open-house
 -upper-school
DTSTART:20260112T220000Z
DTEND:20260113T001500Z
END:VEVENT
END:VCALENDAR
