BEGIN:VCALENDAR
VERSION:2.0
PRODID:SchoolNow
CALSCALE:GREGORIAN
BEGIN:VEVENT
UID:82eb2a98-b4ff-11f0-bdff-0a58a9feac02
DTSTAMP:20251029T194315Z
SUMMARY:Lower School Weekly School Tour
URL;VALUE=URI:https://www.kippsocal.org/compton/calendar/8760115/lower-scho
 ol-weekly-school-tour-clone-clone-clone-clone
DTSTART:20251215T220000Z
DTEND:20251215T230000Z
END:VEVENT
END:VCALENDAR
