BEGIN:VCALENDAR
VERSION:2.0
PRODID:SchoolNow
CALSCALE:GREGORIAN
BEGIN:VEVENT
UID:7dd94238-b4ff-11f0-a587-0a58a9feac02
DTSTAMP:20251029T194307Z
SUMMARY:Lower School Weekly School Tour
URL;VALUE=URI:https://www.kippsocal.org/compton/calendar/8760114/lower-scho
 ol-weekly-school-tour-clone-clone-clone
DTSTART:20251208T220000Z
DTEND:20251208T230000Z
END:VEVENT
END:VCALENDAR
