BEGIN:VCALENDAR
VERSION:2.0
PRODID:SchoolNow
CALSCALE:GREGORIAN
BEGIN:VEVENT
UID:6e9b433e-b4ff-11f0-9ea3-0a58a9feac02
DTSTAMP:20251029T194241Z
SUMMARY:Lower School Weekly School Tour
URL;VALUE=URI:https://www.kippsocal.org/compton/calendar/8760113/lower-scho
 ol-weekly-school-tour-clone-clone-clone
DTSTART:20251117T220000Z
DTEND:20251117T230000Z
END:VEVENT
END:VCALENDAR
