BEGIN:VCALENDAR
VERSION:2.0
PRODID:SchoolNow
CALSCALE:GREGORIAN
BEGIN:VEVENT
UID:53a349dc-b4ff-11f0-996d-0affd3899885
DTSTAMP:20251029T194257Z
SUMMARY:Lower School Weekly School Tour
URL;VALUE=URI:https://www.kippsocal.org/compton/calendar/8760112/lower-scho
 ol-weekly-school-tour-clone-clone
DTSTART:20251201T220000Z
DTEND:20251201T230000Z
END:VEVENT
END:VCALENDAR
