BEGIN:VCALENDAR
VERSION:2.0
PRODID:SchoolNow
CALSCALE:GREGORIAN
BEGIN:VEVENT
UID:4e8e58ec-b4ff-11f0-a690-0affda30926b
DTSTAMP:20251029T194147Z
SUMMARY:Lower School Weekly School Tour
URL;VALUE=URI:https://www.kippsocal.org/compton/calendar/8760111/lower-scho
 ol-weekly-school-tour-clone
DTSTART:20251110T220000Z
DTEND:20251110T230000Z
END:VEVENT
END:VCALENDAR
