BEGIN:VCALENDAR
VERSION:2.0
PRODID:SchoolNow
CALSCALE:GREGORIAN
BEGIN:VEVENT
UID:3f1f0a6e-b4ff-11f0-a9ba-0a58a9feac02
DTSTAMP:20251029T194121Z
SUMMARY:Lower School Weekly School Tour
URL;VALUE=URI:https://www.kippsocal.org/compton/calendar/8760110/lower-scho
 ol-weekly-school-tour
DTSTART:20251103T220000Z
DTEND:20251103T230000Z
END:VEVENT
END:VCALENDAR
