BEGIN:VCALENDAR
VERSION:2.0
PRODID:SchoolNow
CALSCALE:GREGORIAN
BEGIN:VEVENT
UID:30a4cb86-6c02-11f0-90f8-0a58a9feac02
DTSTAMP:20250728T222831Z
SUMMARY:7th Grade Family Orientation
URL;VALUE=URI:https://www.kippsocal.org/compton/calendar/8453779/7th-grade-
 family-orientation
DTSTART:20250801T000000Z
DTEND:20250801T010000Z
END:VEVENT
END:VCALENDAR
