BEGIN:VCALENDAR
VERSION:2.0
PRODID:SchoolNow
CALSCALE:GREGORIAN
BEGIN:VEVENT
UID:1e64e7a8-6c02-11f0-ad0d-0a58a9feac02
DTSTAMP:20250728T222800Z
SUMMARY:6th Grade Family Orientation
URL;VALUE=URI:https://www.kippsocal.org/compton/calendar/8453778/6th-grade-
 family-orientation
DTSTART:20250731T000000Z
DTEND:20250731T010000Z
END:VEVENT
END:VCALENDAR
