BEGIN:VCALENDAR
VERSION:2.0
PRODID:SchoolNow
CALSCALE:GREGORIAN
BEGIN:VEVENT
UID:09462fbc-6c02-11f0-a34e-0a58a9feac02
DTSTAMP:20250728T222725Z
SUMMARY:5th Grade Family Orientation
URL;VALUE=URI:https://www.kippsocal.org/compton/calendar/8453777/5th-grade-
 family-orientation
DTSTART:20250730T000000Z
DTEND:20250730T010000Z
END:VEVENT
END:VCALENDAR
