BEGIN:VCALENDAR
VERSION:2.0
PRODID:SchoolNow
CALSCALE:GREGORIAN
BEGIN:VEVENT
UID:f5546226-6c01-11f0-930c-0afff061a507
DTSTAMP:20250728T222651Z
SUMMARY:2nd-4th Grade Family Orientation
URL;VALUE=URI:https://www.kippsocal.org/compton/calendar/8453776/2nd-4th-gr
 ade-family-orientation
DTSTART:20250812T223000Z
DTEND:20250813T000000Z
END:VEVENT
END:VCALENDAR
