BEGIN:VCALENDAR
VERSION:2.0
PRODID:SchoolNow
CALSCALE:GREGORIAN
BEGIN:VEVENT
UID:d79e8464-6c01-11f0-a245-0ed31cca5a63
DTSTAMP:20250728T222601Z
SUMMARY:Kinder-1st Grade Family Orientation
URL;VALUE=URI:https://www.kippsocal.org/compton/calendar/8453775/kinder-1st
 -grade-family-orientation
DTSTART:20250811T223000Z
DTEND:20250812T000000Z
END:VEVENT
END:VCALENDAR
