BEGIN:VCALENDAR
VERSION:2.0
PRODID:SchoolNow
CALSCALE:GREGORIAN
BEGIN:VEVENT
UID:b53d1d04-6c01-11f0-a123-02abdab9444b
DTSTAMP:20250728T222504Z
SUMMARY:New Families (Lower School): Family Orientation
URL;VALUE=URI:https://www.kippsocal.org/compton/calendar/8453774/new-famili
 es-lower-school-family-orientation
DTSTART:20250807T230000Z
DTEND:20250808T003000Z
END:VEVENT
END:VCALENDAR
