BEGIN:VCALENDAR
VERSION:2.0
PRODID:SchoolNow
CALSCALE:GREGORIAN
BEGIN:VEVENT
UID:bd32c05c-4455-11ee-89bc-0a58a9feac02
DTSTAMP:20230826T211553Z
SUMMARY:Spring Break | No School
URL;VALUE=URI:https://www.kippsocal.org/compton/calendar/4633825/spring-bre
 ak-no-school
DTSTART;VALUE=DATE:20240329
DTEND;VALUE=DATE:20240406
END:VEVENT
END:VCALENDAR
