BEGIN:VCALENDAR
VERSION:2.0
PRODID:SchoolNow
CALSCALE:GREGORIAN
BEGIN:VEVENT
UID:ac525130-4455-11ee-b8c0-0a58a9feac02
DTSTAMP:20230826T211840Z
SUMMARY:Winter Break | No School
URL;VALUE=URI:https://www.kippsocal.org/compton/calendar/4633824/winter-bre
 ak-no-school
DTSTART;VALUE=DATE:20231222
DTEND;VALUE=DATE:20240106
END:VEVENT
END:VCALENDAR
