BEGIN:VCALENDAR
VERSION:2.0
PRODID:SchoolNow
CALSCALE:GREGORIAN
BEGIN:VEVENT
UID:88981bb2-4455-11ee-8f35-0a1d9c392a51
DTSTAMP:20230826T211424Z
SUMMARY:Thanksgiving Holiday | No School
URL;VALUE=URI:https://www.kippsocal.org/compton/calendar/4633820/thanksgivi
 ng-holiday-no-school
DTSTART;VALUE=DATE:20231120
DTEND;VALUE=DATE:20231125
END:VEVENT
END:VCALENDAR
