BEGIN:VCALENDAR
VERSION:2.0
PRODID:SchoolNow
CALSCALE:GREGORIAN
BEGIN:VEVENT
UID:80b717c4-4453-11ee-88dc-0a1d9c392a51
DTSTAMP:20230826T205952Z
SUMMARY:Holiday | No School Day
URL;VALUE=URI:https://www.kippsocal.org/compton/calendar/4633680/holiday-no
 -school-day
DTSTART;VALUE=DATE:20230901
DTEND;VALUE=DATE:20230905
END:VEVENT
END:VCALENDAR
