BEGIN:VCALENDAR
VERSION:2.0
PRODID:SchoolNow
CALSCALE:GREGORIAN
BEGIN:VEVENT
UID:f154b72a-ff4c-11e9-88e4-124088745806
DTSTAMP:20191104T214914Z
SUMMARY:Interest Period Deadline
URL;VALUE=URI:https://www.kippsocal.org/comienza/calendar/2138965/interest-
 period-deadline
DTSTART:20200214T230000Z
DTEND:20200215T000000Z
END:VEVENT
END:VCALENDAR
